BEGIN:VCALENDAR
VERSION:2.0
PRODID:-//Carson-Newman University - ECPv6.15.20//NONSGML v1.0//EN
CALSCALE:GREGORIAN
METHOD:PUBLISH
X-WR-CALNAME:Carson-Newman University
X-ORIGINAL-URL:https://www.cn.edu
X-WR-CALDESC:Events for Carson-Newman University
REFRESH-INTERVAL;VALUE=DURATION:PT1H
X-Robots-Tag:noindex
X-PUBLISHED-TTL:PT1H
BEGIN:VTIMEZONE
TZID:America/New_York
BEGIN:DAYLIGHT
TZOFFSETFROM:-0500
TZOFFSETTO:-0400
TZNAME:EDT
DTSTART:20250309T070000
END:DAYLIGHT
BEGIN:STANDARD
TZOFFSETFROM:-0400
TZOFFSETTO:-0500
TZNAME:EST
DTSTART:20251102T060000
END:STANDARD
BEGIN:DAYLIGHT
TZOFFSETFROM:-0500
TZOFFSETTO:-0400
TZNAME:EDT
DTSTART:20260308T070000
END:DAYLIGHT
BEGIN:STANDARD
TZOFFSETFROM:-0400
TZOFFSETTO:-0500
TZNAME:EST
DTSTART:20261101T060000
END:STANDARD
BEGIN:DAYLIGHT
TZOFFSETFROM:-0500
TZOFFSETTO:-0400
TZNAME:EDT
DTSTART:20270314T070000
END:DAYLIGHT
BEGIN:STANDARD
TZOFFSETFROM:-0400
TZOFFSETTO:-0500
TZNAME:EST
DTSTART:20271107T060000
END:STANDARD
END:VTIMEZONE
BEGIN:VEVENT
DTSTART;TZID=America/New_York:20260420T083000
DTEND;TZID=America/New_York:20260420T100000
DTSTAMP:20260419T143140
CREATED:20260410T121733Z
LAST-MODIFIED:20260410T121733Z
UID:27718-1776673800-1776679200@www.cn.edu
SUMMARY:Fuel For Finals : Beverages and Biscuits with Blair
DESCRIPTION:Student Care and Advocacy department will be handing out energy drinks and biscuits to help prep students for finals week approaching.
URL:https://www.cn.edu/event/fuel-for-finals-beverages-and-biscuits-with-blair/
LOCATION:Between Swan and Music Building
END:VEVENT
BEGIN:VEVENT
DTSTART;TZID=America/New_York:20260420T180000
DTEND;TZID=America/New_York:20260420T190000
DTSTAMP:20260419T143140
CREATED:20260331T151658Z
LAST-MODIFIED:20260331T151658Z
UID:27681-1776708000-1776711600@www.cn.edu
SUMMARY:Student Government Association Inauguration Ceremony
DESCRIPTION:This event is an annual initiation of the new academic year’s SGA Delegates!
URL:https://www.cn.edu/event/student-government-association-inauguration-ceremony/
LOCATION:Thomas Recital Hall\, Located in the Tarr Music Center
END:VEVENT
BEGIN:VEVENT
DTSTART;TZID=America/New_York:20260420T190000
DTEND;TZID=America/New_York:20260420T201500
DTSTAMP:20260419T143140
CREATED:20260408T140539Z
LAST-MODIFIED:20260408T140539Z
UID:27709-1776711600-1776716100@www.cn.edu
SUMMARY:Redemption: Night of Worship
DESCRIPTION:Come join Redemption for a night of worship and praise!
URL:https://www.cn.edu/event/redemption-night-of-worship/
LOCATION:TN
END:VEVENT
BEGIN:VEVENT
DTSTART;TZID=America/New_York:20260421T073000
DTEND;TZID=America/New_York:20260421T083000
DTSTAMP:20260419T143140
CREATED:20260317T132405Z
LAST-MODIFIED:20260407T133349Z
UID:27620-1776756600-1776760200@www.cn.edu
SUMMARY:Alumni and Friends Greene County Coffee and Connection
DESCRIPTION:Join us in Greeneville for the first of many Carson-Newman Alumni and Friends Coffee and Connections gatherings! This new series is designed to bring our alumni together to hear updates from the university\, connect and fellowship with fellow Carson-Newman alumni in the area\, and enjoy a simple but delicious breakfast. \nWhile this event is free to attend\, there will be an opportunity to make a tax-deductible gift to support the Carson-Newman Alumni Fund. Contributions to this fund help make events like this possible and allow us to continue offering more free and low-cost gatherings for our alumni throughout the year. \nWe look forward to seeing you in Greeneville on April 21st! ☕ \nGreene County Coffee and Connection
URL:https://www.cn.edu/event/alumni-and-friends-greene-county-coffee-and-connection/
LOCATION:115 Academy St Greeneville\, TN 37743-5601 United States
CATEGORIES:Alumni
END:VEVENT
BEGIN:VEVENT
DTSTART;TZID=America/New_York:20260421T093000
DTEND;TZID=America/New_York:20260421T101500
DTSTAMP:20260419T143140
CREATED:20260108T143337Z
LAST-MODIFIED:20260108T143337Z
UID:27267-1776763800-1776766500@www.cn.edu
SUMMARY:(CLW) Senior Chapel
DESCRIPTION:
URL:https://www.cn.edu/event/clw-senior-chapel/
LOCATION:Maddox Student Activities Center\, 3-gym\, 2130 Branner Ave\, Jefferson City\, TN\, 37760\, United States
CATEGORIES:Church Relations,CLW
END:VEVENT
BEGIN:VEVENT
DTSTART;TZID=America/New_York:20260422T120000
DTEND;TZID=America/New_York:20260422T130000
DTSTAMP:20260419T143140
CREATED:20250521T141140Z
LAST-MODIFIED:20250521T141140Z
UID:25941-1776859200-1776862800@www.cn.edu
SUMMARY:Business Department Senior Celebration
DESCRIPTION:
URL:https://www.cn.edu/event/business-department-senior-celebration-2/
LOCATION:Ted Russell Hall\, Rooms 150 and 151
END:VEVENT
BEGIN:VEVENT
DTSTART;TZID=America/New_York:20260423T100000
DTEND;TZID=America/New_York:20260423T120000
DTSTAMP:20260419T143140
CREATED:20260108T140027Z
LAST-MODIFIED:20260108T140027Z
UID:27252-1776938400-1776945600@www.cn.edu
SUMMARY:2026 Faculty & Staff Retirees
DESCRIPTION:Retirement Reception
URL:https://www.cn.edu/event/2026-faculty-staff-retirees/
LOCATION:Stokely Memorial Cafeteria\, Small cafeteria\, 809 Ken Sparks Way\, Jefferson City\, TN\, 37760\, United States
END:VEVENT
BEGIN:VEVENT
DTSTART;TZID=America/New_York:20260423T200000
DTEND;TZID=America/New_York:20260423T220000
DTSTAMP:20260419T143140
CREATED:20260414T132351Z
LAST-MODIFIED:20260414T135606Z
UID:27738-1776974400-1776981600@www.cn.edu
SUMMARY:Late Night Breakfast
DESCRIPTION:LATE NIGHT BREAKFAST is bringing Beach Vibes and Breakfast Bites!! Join Student Success in the Caf for a FREE breakfast\, served by C-N faculty and staff\, to prepare for the start of finals. Karaoke\, food\, fun and fellowship for all!! Event is open to current C-N students only. \nMust have current C-N ID to attend.
URL:https://www.cn.edu/event/late-night-breakfast/
LOCATION:Stokely Memorial Cafeteria\, Main Cafeteria\, 2205 Branner Ave\, Jefferson City\, TN\, 37760\, United States
ATTACH;FMTTYPE=image/jpeg:https://www.cn.edu/wp-content/uploads/2026/04/210x120_LNB_LED2_72.jpg
END:VEVENT
BEGIN:VEVENT
DTSTART;TZID=America/New_York:20260424T084500
DTEND;TZID=America/New_York:20260424T140000
DTSTAMP:20260419T143140
CREATED:20251204T184116Z
LAST-MODIFIED:20251204T184116Z
UID:27148-1777020300-1777039200@www.cn.edu
SUMMARY:In-Person Early Registration Day - INSIGNIS Participants & C-N Dual Enrolled Students Only
DESCRIPTION:Early Registration Day is your opportunity to meet with your academic advisor\, register for classes\, and take care of all of the business of becoming a new student early.  After attending this event you should be ready to move to campus or walk into class with everything done and ready to go\, which will give you a stress-free start to your first semester at Carson-Newman!
URL:https://www.cn.edu/event/in-person-early-registration-day-insignis-participants-c-n-dual-enrolled-students-only/
LOCATION:Drama & Ted Russell Center\, 728 N. College St.\, Jefferson City\, TN\, 37760
END:VEVENT
BEGIN:VEVENT
DTSTART;TZID=America/New_York:20260429T090000
DTEND;TZID=America/New_York:20260429T223000
DTSTAMP:20260419T143140
CREATED:20260122T145858Z
LAST-MODIFIED:20260122T145858Z
UID:27364-1777453200-1777501800@www.cn.edu
SUMMARY:Student Teacher Breakfast
DESCRIPTION:Celebration with student teachers before graduation and award the outstanding student teacher award.
URL:https://www.cn.edu/event/student-teacher-breakfast/
LOCATION:Stokely Memorial Cafeteria\, Small cafeteria\, 809 Ken Sparks Way\, Jefferson City\, TN\, 37760\, United States
END:VEVENT
BEGIN:VEVENT
DTSTART;VALUE=DATE:20260430
DTEND;VALUE=DATE:20260501
DTSTAMP:20260419T143140
CREATED:20260113T160123Z
LAST-MODIFIED:20260113T160123Z
UID:27303-1777507200-1777593599@www.cn.edu
SUMMARY:Commencement Rehearsal
DESCRIPTION:
URL:https://www.cn.edu/event/commencement-rehearsal/
LOCATION:TN
END:VEVENT
BEGIN:VEVENT
DTSTART;TZID=America/New_York:20260430T160000
DTEND;TZID=America/New_York:20260430T170000
DTSTAMP:20260419T143140
CREATED:20260218T153502Z
LAST-MODIFIED:20260218T153502Z
UID:27482-1777564800-1777568400@www.cn.edu
SUMMARY:Military Cording Ceremony
DESCRIPTION:Veterans\, ROTC cadets & current service members who are graduating will receive the Military Honor Cord in a brief ceremony followed by a reception.
URL:https://www.cn.edu/event/military-cording-ceremony/
LOCATION:Thomas Recital Hall\, Located in the Tarr Music Center
END:VEVENT
BEGIN:VEVENT
DTSTART;TZID=America/New_York:20260430T170000
DTEND;TZID=America/New_York:20260430T180000
DTSTAMP:20260419T143140
CREATED:20260218T154026Z
LAST-MODIFIED:20260218T154026Z
UID:27485-1777568400-1777572000@www.cn.edu
SUMMARY:Nursing Celebration of Excellence
DESCRIPTION:
URL:https://www.cn.edu/event/nursing-celebration-of-excellence-3/
LOCATION:Maddox Student Activities Center\, 3-gym\, 2130 Branner Ave\, Jefferson City\, TN\, 37760\, United States
END:VEVENT
END:VCALENDAR