BEGIN:VCALENDAR
VERSION:2.0
PRODID:-//Carson-Newman University - ECPv6.15.20//NONSGML v1.0//EN
CALSCALE:GREGORIAN
METHOD:PUBLISH
X-WR-CALNAME:Carson-Newman University
X-ORIGINAL-URL:https://www.cn.edu
X-WR-CALDESC:Events for Carson-Newman University
REFRESH-INTERVAL;VALUE=DURATION:PT1H
X-Robots-Tag:noindex
X-PUBLISHED-TTL:PT1H
BEGIN:VTIMEZONE
TZID:America/New_York
BEGIN:DAYLIGHT
TZOFFSETFROM:-0500
TZOFFSETTO:-0400
TZNAME:EDT
DTSTART:20230312T070000
END:DAYLIGHT
BEGIN:STANDARD
TZOFFSETFROM:-0400
TZOFFSETTO:-0500
TZNAME:EST
DTSTART:20231105T060000
END:STANDARD
BEGIN:DAYLIGHT
TZOFFSETFROM:-0500
TZOFFSETTO:-0400
TZNAME:EDT
DTSTART:20240310T070000
END:DAYLIGHT
BEGIN:STANDARD
TZOFFSETFROM:-0400
TZOFFSETTO:-0500
TZNAME:EST
DTSTART:20241103T060000
END:STANDARD
BEGIN:DAYLIGHT
TZOFFSETFROM:-0500
TZOFFSETTO:-0400
TZNAME:EDT
DTSTART:20250309T070000
END:DAYLIGHT
BEGIN:STANDARD
TZOFFSETFROM:-0400
TZOFFSETTO:-0500
TZNAME:EST
DTSTART:20251102T060000
END:STANDARD
END:VTIMEZONE
BEGIN:VEVENT
DTSTART;TZID=America/New_York:20240917T200000
DTEND;TZID=America/New_York:20240917T223000
DTSTAMP:20260422T104027
CREATED:20240913T153944Z
LAST-MODIFIED:20240913T153944Z
UID:24616-1726603200-1726612200@www.cn.edu
SUMMARY:FCA Weekly Meeting
DESCRIPTION:
URL:https://www.cn.edu/event/fca-weekly-meeting-4/
LOCATION:Butler-Blanc GYM\, 1646 Russell Ave\,\, Jefferson City\, TN\, 37760\, United States
CATEGORIES:Student Organization
END:VEVENT
BEGIN:VEVENT
DTSTART;TZID=America/New_York:20240917T200000
DTEND;TZID=America/New_York:20240917T213000
DTSTAMP:20260422T104027
CREATED:20240917T134436Z
LAST-MODIFIED:20240917T134436Z
UID:24639-1726603200-1726608600@www.cn.edu
SUMMARY:Reformed University Fellowship (RUF) Large Group
DESCRIPTION:Join us for our weekly RUF Large Group! Teaching\, singing\, community. We hope to see you there!
URL:https://www.cn.edu/event/reformed-university-fellowship-ruf-large-group-2/
LOCATION:Center for Community Engagement
CATEGORIES:Student Life,Student Organization
END:VEVENT
BEGIN:VEVENT
DTSTART;TZID=America/New_York:20240917T093000
DTEND;TZID=America/New_York:20240917T102000
DTSTAMP:20260422T104027
CREATED:20240802T124852Z
LAST-MODIFIED:20240815T181132Z
UID:24021-1726565400-1726568400@www.cn.edu
SUMMARY:(CLW) Chapel Service: Sandy Willson
DESCRIPTION:Sandy Willson\, Interim President of the Gospel Coalition
URL:https://www.cn.edu/event/clw-chapel-service-sandy-willson/
LOCATION:Maddox Student Activities Center\, 3-gym\, 2130 Branner Ave\, Jefferson City\, TN\, 37760\, United States
CATEGORIES:Church Relations,CLW
ATTACH;FMTTYPE=image/png:https://www.cn.edu/wp-content/uploads/2024/08/SW-web.png
END:VEVENT
BEGIN:VEVENT
DTSTART;TZID=America/New_York:20240916T190000
DTEND;TZID=America/New_York:20240916T200000
DTSTAMP:20260422T104027
CREATED:20240822T152915Z
LAST-MODIFIED:20240823T135240Z
UID:24278-1726513200-1726516800@www.cn.edu
SUMMARY:InterVarsity Christian Fellowship Weekly Bible Study
DESCRIPTION:Join InterVarsity as we pray for each other and our campus\, hang out\, and study the gospel of John!
URL:https://www.cn.edu/event/intervarsity-christian-fellowship-weekly-bible-study-13/
LOCATION:Maples Coffee House
CATEGORIES:Student Life,Student Organization
END:VEVENT
BEGIN:VEVENT
DTSTART;TZID=America/New_York:20240916T170000
DTEND;TZID=America/New_York:20240916T180000
DTSTAMP:20260422T104027
CREATED:20240909T124804Z
LAST-MODIFIED:20240909T124807Z
UID:24568-1726506000-1726509600@www.cn.edu
SUMMARY:Best Buddies Interest Meeting
DESCRIPTION:Best Buddies is a club that works with individuals with cognitive and developmental disabilities. This is a meeting for anyone interested in becoming a member as well as previous members. You will be able to meet our buddies\, and we will provide pizza and snacks!
URL:https://www.cn.edu/event/best-buddies-interest-meeting/
LOCATION:MSAC Lounge
CATEGORIES:Student Organization
ATTACH;FMTTYPE=application/pdf:https://www.cn.edu/wp-content/uploads/2024/09/Best-Buddies-poster.pdf
END:VEVENT
BEGIN:VEVENT
DTSTART;TZID=America/New_York:20240916T130000
DTEND;TZID=America/New_York:20240916T150000
DTSTAMP:20260422T104027
CREATED:20240812T140139Z
LAST-MODIFIED:20240812T140139Z
UID:24177-1726491600-1726498800@www.cn.edu
SUMMARY:Men's Soccer Home Game
DESCRIPTION:West Ala.
URL:https://www.cn.edu/event/mens-soccer-home-game-10/
LOCATION:McCown Soccer Field
CATEGORIES:Athletics
ATTACH;FMTTYPE=image/png:https://www.cn.edu/wp-content/uploads/2022/11/Official-Eagle-Head.png
END:VEVENT
BEGIN:VEVENT
DTSTART;TZID=America/New_York:20240912T093000
DTEND;TZID=America/New_York:20240912T103000
DTSTAMP:20260422T104027
CREATED:20240520T114421Z
LAST-MODIFIED:20240520T151153Z
UID:23634-1726133400-1726137000@www.cn.edu
SUMMARY:Student Business Leaders Lecture Series
DESCRIPTION:A guest speaker from various businesses will be coming to speak about the transition from college to the workplace. These lectures will include tips for one’s career\, information about local businesses\, and connections for potential internships and job opportunities. This event is open to all Carson-Newman students.
URL:https://www.cn.edu/event/student-business-leaders-lecture-series-10/
LOCATION:Ted Russell Hall\, Room 150
CATEGORIES:Academic,Student Life,Student Organization
ATTACH;FMTTYPE=application/pdf:https://www.cn.edu/wp-content/uploads/2024/05/Fall-2024-Lecture-Events-Schedule-2-1.pdf
END:VEVENT
BEGIN:VEVENT
DTSTART;TZID=America/New_York:20240912T093000
DTEND;TZID=America/New_York:20240912T102000
DTSTAMP:20260422T104027
CREATED:20240815T173139Z
LAST-MODIFIED:20240815T173139Z
UID:24038-1726133400-1726136400@www.cn.edu
SUMMARY:(CLW) Eagle Talk: Goodness
DESCRIPTION:
URL:https://www.cn.edu/event/clw-eagle-talk-goodness-2/
LOCATION:Gentry Auditorium
CATEGORIES:CLW
END:VEVENT
BEGIN:VEVENT
DTSTART;TZID=America/New_York:20240911T203000
DTEND;TZID=America/New_York:20240911T214500
DTSTAMP:20260422T104027
CREATED:20240807T190130Z
LAST-MODIFIED:20241001T181105Z
UID:24122-1726086600-1726091100@www.cn.edu
SUMMARY:BCM Worship Service
DESCRIPTION:Weekly Worship gathering for all students led by Seed Co. and the BCM Leadership Team
URL:https://www.cn.edu/event/bcm-worship-service-3/
LOCATION:Butler-Blanc GYM\, 1646 Russell Ave\,\, Jefferson City\, TN\, 37760\, United States
CATEGORIES:Church Relations,CLW
END:VEVENT
BEGIN:VEVENT
DTSTART;TZID=America/New_York:20240911T190000
DTEND;TZID=America/New_York:20240911T210000
DTSTAMP:20260422T104027
CREATED:20240828T192929Z
LAST-MODIFIED:20240828T192929Z
UID:24379-1726081200-1726088400@www.cn.edu
SUMMARY:Coffee and Tea with International Club
DESCRIPTION:Come and play games with International Club\, cookies provided!!!
URL:https://www.cn.edu/event/coffee-and-tea-with-international-club/
LOCATION:Maddox Student Activities Center\, Room 2000
CATEGORIES:Campus Recreation,Student Life,Student Organization
END:VEVENT
BEGIN:VEVENT
DTSTART;TZID=America/New_York:20240911T173000
DTEND;TZID=America/New_York:20240911T193000
DTSTAMP:20260422T104027
CREATED:20240830T183844Z
LAST-MODIFIED:20240907T133939Z
UID:24409-1726075800-1726083000@www.cn.edu
SUMMARY:Carson-Newman's Got Talent
DESCRIPTION:Carson-Newman’s Got Talent- presented by Fresh Ideas and Student Experiences! Round 1 Sponsored By Pepsi! Compete to showcase the best of the best talent on Carson-Newman’s Campus! Winners for the 4 preliminary rounds will be selected by a panel of Carson-Newman’s Faculty and Staff. Winners of the 4 preliminary rounds will compete for the C-N’s Got Talent Grand Prize on December 5th just prior to Late Night Breakfast! Come and showcase your talents at Carson-Newman’s Got Talent!
URL:https://www.cn.edu/event/carson-newmans-got-talent/
LOCATION:Stokely Memorial Cafeteria\, Main Cafeteria\, 2205 Branner Ave\, Jefferson City\, TN\, 37760\, United States
CATEGORIES:Special Events,Student Life
ATTACH;FMTTYPE=image/png:https://www.cn.edu/wp-content/uploads/2024/08/Brought-to-you-by-Fresh-Ideas-C-N-1080-x-1350-px.png
END:VEVENT
BEGIN:VEVENT
DTSTART;TZID=America/New_York:20240911T170000
DTEND;TZID=America/New_York:20240911T190000
DTSTAMP:20260422T104027
CREATED:20240805T174105Z
LAST-MODIFIED:20240805T180807Z
UID:24084-1726074000-1726081200@www.cn.edu
SUMMARY:Women's Soccer Home Game
DESCRIPTION:King (Tenn)
URL:https://www.cn.edu/event/womens-soccer-home-game-12/
LOCATION:McCown Soccer Field
CATEGORIES:Athletics
ATTACH;FMTTYPE=image/png:https://www.cn.edu/wp-content/uploads/2022/11/Official-Eagle-Head.png
END:VEVENT
BEGIN:VEVENT
DTSTART;TZID=America/New_York:20240911T093000
DTEND;TZID=America/New_York:20240911T093000
DTSTAMP:20260422T104027
CREATED:20240520T114038Z
LAST-MODIFIED:20240520T151909Z
UID:23627-1726047000-1726047000@www.cn.edu
SUMMARY:Student Business Leaders Tabling Event
DESCRIPTION:Employees from various businesses will be coming to set up a table to provide information about their local businesses\, and offer connections for potential internships and job opportunities. This event is open to all Carson-Newman students.
URL:https://www.cn.edu/event/student-business-leaders-tabling-event/
LOCATION:Ted Russell Hall
CATEGORIES:Academic,Student Life,Student Organization
ATTACH;FMTTYPE=application/pdf:https://www.cn.edu/wp-content/uploads/2024/05/Fall-2024-Tabling-Events-1-1.pdf
END:VEVENT
BEGIN:VEVENT
DTSTART;TZID=America/New_York:20240910T200000
DTEND;TZID=America/New_York:20240910T213000
DTSTAMP:20260422T104027
CREATED:20240905T140812Z
LAST-MODIFIED:20240905T141342Z
UID:24500-1725998400-1726003800@www.cn.edu
SUMMARY:Reformed University Fellowship (RUF) Large Group
DESCRIPTION:Join us for our weekly RUF Large Group! Teaching\, singing\, community. We hope to see you there!
URL:https://www.cn.edu/event/ruf-large-group-5/
LOCATION:Center for Community Engagement
CATEGORIES:Student Life,Student Organization
END:VEVENT
BEGIN:VEVENT
DTSTART;TZID=America/New_York:20240910T190000
DTEND;TZID=America/New_York:20240910T210000
DTSTAMP:20260422T104027
CREATED:20240805T155001Z
LAST-MODIFIED:20240805T181449Z
UID:24068-1725994800-1726002000@www.cn.edu
SUMMARY:Volleyball Home Game
DESCRIPTION:Lincoln Memorial
URL:https://www.cn.edu/event/volleyball-home-game-10/
LOCATION:Holt Fieldhouse\, Located in the Maddox Student Activities Center
CATEGORIES:Athletics
ATTACH;FMTTYPE=image/png:https://www.cn.edu/wp-content/uploads/2022/11/Official-Eagle-Head.png
END:VEVENT
BEGIN:VEVENT
DTSTART;TZID=America/New_York:20240910T093000
DTEND;TZID=America/New_York:20240910T102000
DTSTAMP:20260422T104027
CREATED:20240802T124051Z
LAST-MODIFIED:20240815T181406Z
UID:24020-1725960600-1725963600@www.cn.edu
SUMMARY:(CLW) Chapel Service: Kari Tavella
DESCRIPTION:C-N Alum
URL:https://www.cn.edu/event/clw-chapel-service-kari-tavella/
LOCATION:Maddox Student Activities Center\, 3-gym\, 2130 Branner Ave\, Jefferson City\, TN\, 37760\, United States
CATEGORIES:Church Relations,CLW
ATTACH;FMTTYPE=image/png:https://www.cn.edu/wp-content/uploads/2024/08/KT-web.png
END:VEVENT
BEGIN:VEVENT
DTSTART;TZID=America/New_York:20240909T193000
DTEND;TZID=America/New_York:20240909T203000
DTSTAMP:20260422T104027
CREATED:20240906T172334Z
LAST-MODIFIED:20240906T172334Z
UID:24532-1725910200-1725913800@www.cn.edu
SUMMARY:Faculty Recital: Featuring Dr. Laurissa Backlin\, soprano & Ms. Sherbie Hampson\, flute
DESCRIPTION:Come and enjoy a lovely evening of music!
URL:https://www.cn.edu/event/faculty-recital-featuring-dr-laurissa-backlin-soprano-ms-sherbie-hampson-flute/
LOCATION:Thomas Recital Hall\, Located in the Tarr Music Center
CATEGORIES:Arts,Music
END:VEVENT
BEGIN:VEVENT
DTSTART;TZID=America/New_York:20240909T190000
DTEND;TZID=America/New_York:20240909T203000
DTSTAMP:20260422T104027
CREATED:20240822T151401Z
LAST-MODIFIED:20240822T151401Z
UID:24263-1725908400-1725913800@www.cn.edu
SUMMARY:InterVarsity Christian Fellowship: Rock Painting
DESCRIPTION:Come make a new friend and paint a rock! We will paint fun and encouraging messages on rocks to leave around campus. Snacks\, including foods with “rock” in their name\, will be provided!
URL:https://www.cn.edu/event/intervarsity-christian-fellowship-rock-painting/
LOCATION:Maddox Student Activities Center\, Room 2000
CATEGORIES:Student Life,Student Organization
END:VEVENT
BEGIN:VEVENT
DTSTART;TZID=America/New_York:20240909T180000
DTEND;TZID=America/New_York:20240909T200000
DTSTAMP:20260422T104027
CREATED:20240823T121931Z
LAST-MODIFIED:20240904T185814Z
UID:24262-1725904800-1725912000@www.cn.edu
SUMMARY:Sophomore Welcome Back Dinner
DESCRIPTION:We are so excited to have our second-year students back on campus! We want set aside a time to recognize their commitment to C-N\, while also highlighting the important aspects of the second-year experience. We welcome all second-year students to attend! RSVP to be sent via email.
URL:https://www.cn.edu/event/sophomore-welcome-back-dinner/
LOCATION:Stokely Memorial Cafeteria\, Small cafeteria\, 809 Ken Sparks Way\, Jefferson City\, TN\, 37760\, United States
CATEGORIES:Special Events,Student Life
END:VEVENT
BEGIN:VEVENT
DTSTART;TZID=America/New_York:20240907T163000
DTEND;TZID=America/New_York:20240907T200000
DTSTAMP:20260422T104027
CREATED:20240905T130311Z
LAST-MODIFIED:20240905T130311Z
UID:24498-1725726600-1725739200@www.cn.edu
SUMMARY:Hiking with Nations One
DESCRIPTION:Join Nations One for a hike at Panther Creek and enjoy shish kebab for dinner.
URL:https://www.cn.edu/event/hiking-with-nations-one/
LOCATION:Panther Creek State Park
CATEGORIES:Student Life,Student Organization
END:VEVENT
BEGIN:VEVENT
DTSTART;TZID=America/New_York:20240907T153000
DTEND;TZID=America/New_York:20240907T173000
DTSTAMP:20260422T104027
CREATED:20240805T173859Z
LAST-MODIFIED:20240805T180825Z
UID:24083-1725723000-1725730200@www.cn.edu
SUMMARY:Women's Soccer Home Game
DESCRIPTION:Union (TN)
URL:https://www.cn.edu/event/womens-soccer-home-game-11/
LOCATION:McCown Soccer Field
CATEGORIES:Athletics
ATTACH;FMTTYPE=image/png:https://www.cn.edu/wp-content/uploads/2022/11/Official-Eagle-Head.png
END:VEVENT
BEGIN:VEVENT
DTSTART;TZID=America/New_York:20240906T190000
DTEND;TZID=America/New_York:20240906T210000
DTSTAMP:20260422T104027
CREATED:20240614T191937Z
LAST-MODIFIED:20240806T150856Z
UID:23747-1725649200-1725656400@www.cn.edu
SUMMARY:Boot Scoot
DESCRIPTION:Come line dance the night away!
URL:https://www.cn.edu/event/boot-scoot/
LOCATION:Jefferson County Fair Grounds
CATEGORIES:Student Life
ATTACH;FMTTYPE=image/png:https://www.cn.edu/wp-content/uploads/2024/06/BOOT-SCOOT.png
END:VEVENT
BEGIN:VEVENT
DTSTART;TZID=America/New_York:20240905T193000
DTEND;TZID=America/New_York:20240905T203000
DTSTAMP:20260422T104027
CREATED:20240812T160808Z
LAST-MODIFIED:20240812T160808Z
UID:24186-1725564600-1725568200@www.cn.edu
SUMMARY:Faculty Recital: Dr. Ryan Fogg\, piano
DESCRIPTION:Please come and enjoy a wonderful evening as Dr. Ryan Fogg performs piano music of Ludwig van Beethoven. \n 
URL:https://www.cn.edu/event/faculty-recital-dr-ryan-fogg-piano-2/
LOCATION:Thomas Recital Hall\, Located in the Tarr Music Center
CATEGORIES:Special Events
END:VEVENT
BEGIN:VEVENT
DTSTART;TZID=America/New_York:20240905T150000
DTEND;TZID=America/New_York:20240905T170000
DTSTAMP:20260422T104027
CREATED:20240812T140017Z
LAST-MODIFIED:20240812T140020Z
UID:24176-1725548400-1725555600@www.cn.edu
SUMMARY:Men's Soccer Home Game
DESCRIPTION:Trevecca Nazarene
URL:https://www.cn.edu/event/mens-soccer-home-game-9/
LOCATION:McCown Soccer Field
CATEGORIES:Athletics
ATTACH;FMTTYPE=image/png:https://www.cn.edu/wp-content/uploads/2022/11/Official-Eagle-Head.png
END:VEVENT
BEGIN:VEVENT
DTSTART;TZID=America/New_York:20240905T093000
DTEND;TZID=America/New_York:20240905T103000
DTSTAMP:20260422T104027
CREATED:20240520T114403Z
LAST-MODIFIED:20240520T151101Z
UID:23632-1725528600-1725532200@www.cn.edu
SUMMARY:Student Business Leaders Lecture Series
DESCRIPTION:A guest speaker from various businesses will be coming to speak about the transition from college to the workplace. These lectures will include tips for one’s career\, information about local businesses\, and connections for potential internships and job opportunities. This event is open to all Carson-Newman students.
URL:https://www.cn.edu/event/student-business-leaders-lecture-series-9/
LOCATION:Ted Russell Hall\, Room 150
CATEGORIES:Academic,Student Life,Student Organization
ATTACH;FMTTYPE=application/pdf:https://www.cn.edu/wp-content/uploads/2024/05/Fall-2024-Lecture-Events-Schedule-2.pdf
END:VEVENT
BEGIN:VEVENT
DTSTART;TZID=America/New_York:20240905T093000
DTEND;TZID=America/New_York:20240905T102000
DTSTAMP:20260422T104027
CREATED:20240815T173054Z
LAST-MODIFIED:20240815T173054Z
UID:24037-1725528600-1725531600@www.cn.edu
SUMMARY:(CLW) Eagle Talk: Beauty
DESCRIPTION:
URL:https://www.cn.edu/event/clw-eagle-talk-beauty-2/
LOCATION:Gentry Auditorium
CATEGORIES:CLW
END:VEVENT
BEGIN:VEVENT
DTSTART;TZID=America/New_York:20240904T203000
DTEND;TZID=America/New_York:20240904T214500
DTSTAMP:20260422T104027
CREATED:20240807T190033Z
LAST-MODIFIED:20241001T181016Z
UID:24121-1725481800-1725486300@www.cn.edu
SUMMARY:BCM Worship Service
DESCRIPTION:Weekly Worship gathering for all students led by Seed Co. and the BCM Leadership Team
URL:https://www.cn.edu/event/bcm-worship-service-2/
LOCATION:Butler-Blanc GYM\, 1646 Russell Ave\,\, Jefferson City\, TN\, 37760\, United States
CATEGORIES:Church Relations,CLW
END:VEVENT
BEGIN:VEVENT
DTSTART;TZID=America/New_York:20240903T193000
DTEND;TZID=America/New_York:20240903T210000
DTSTAMP:20260422T104027
CREATED:20240814T155451Z
LAST-MODIFIED:20240905T141412Z
UID:24196-1725391800-1725397200@www.cn.edu
SUMMARY:Reformed University Fellowship (RUF) Large Group
DESCRIPTION:Join us for the first RUF Large Group of the semester! We are so excited to welcome students back to campus and begin our study of the parables. RUF is a great place to make good friends\, ask good questions\, and hear good news about Jesus.
URL:https://www.cn.edu/event/ruf-large-group-4/
LOCATION:Thomas Recital Hall\, Located in the Tarr Music Center
CATEGORIES:Student Life,Student Organization
END:VEVENT
BEGIN:VEVENT
DTSTART;TZID=America/New_York:20240903T190000
DTEND;TZID=America/New_York:20240903T203000
DTSTAMP:20260422T104027
CREATED:20240424T165300Z
LAST-MODIFIED:20240815T185418Z
UID:23471-1725390000-1725395400@www.cn.edu
SUMMARY:12th Annual Eagle Scholars Ceremony
DESCRIPTION:Eagle Scholars Ceremony honors those athletes who have excelled in academics
URL:https://www.cn.edu/event/12th-annual-eagle-scholars-ceremony/
LOCATION:Maddox Student Activities Center\, 3-gym\, 2130 Branner Ave\, Jefferson City\, TN\, 37760\, United States
CATEGORIES:Academic,Student Life
ATTACH;FMTTYPE=image/png:https://www.cn.edu/wp-content/uploads/2024/04/es_postcard_front.png
END:VEVENT
BEGIN:VEVENT
DTSTART;TZID=America/New_York:20240903T093000
DTEND;TZID=America/New_York:20240903T102000
DTSTAMP:20260422T104027
CREATED:20240802T123053Z
LAST-MODIFIED:20240814T192015Z
UID:24019-1725355800-1725358800@www.cn.edu
SUMMARY:(CLW) Convocation
DESCRIPTION:Join us for the first Chapel Service of the year!
URL:https://www.cn.edu/event/clw-convocation/
LOCATION:Maddox Student Activities Center\, 3-gym\, 2130 Branner Ave\, Jefferson City\, TN\, 37760\, United States
CATEGORIES:Campus Recreation,Church Relations
END:VEVENT
END:VCALENDAR