BEGIN:VCALENDAR
VERSION:2.0
PRODID:-//Carson-Newman University - ECPv6.15.20//NONSGML v1.0//EN
CALSCALE:GREGORIAN
METHOD:PUBLISH
X-ORIGINAL-URL:https://www.cn.edu
X-WR-CALDESC:Events for Carson-Newman University
REFRESH-INTERVAL;VALUE=DURATION:PT1H
X-Robots-Tag:noindex
X-PUBLISHED-TTL:PT1H
BEGIN:VTIMEZONE
TZID:America/New_York
BEGIN:DAYLIGHT
TZOFFSETFROM:-0500
TZOFFSETTO:-0400
TZNAME:EDT
DTSTART:20230312T070000
END:DAYLIGHT
BEGIN:STANDARD
TZOFFSETFROM:-0400
TZOFFSETTO:-0500
TZNAME:EST
DTSTART:20231105T060000
END:STANDARD
BEGIN:DAYLIGHT
TZOFFSETFROM:-0500
TZOFFSETTO:-0400
TZNAME:EDT
DTSTART:20240310T070000
END:DAYLIGHT
BEGIN:STANDARD
TZOFFSETFROM:-0400
TZOFFSETTO:-0500
TZNAME:EST
DTSTART:20241103T060000
END:STANDARD
BEGIN:DAYLIGHT
TZOFFSETFROM:-0500
TZOFFSETTO:-0400
TZNAME:EDT
DTSTART:20250309T070000
END:DAYLIGHT
BEGIN:STANDARD
TZOFFSETFROM:-0400
TZOFFSETTO:-0500
TZNAME:EST
DTSTART:20251102T060000
END:STANDARD
BEGIN:DAYLIGHT
TZOFFSETFROM:-0500
TZOFFSETTO:-0400
TZNAME:EDT
DTSTART:20260308T070000
END:DAYLIGHT
BEGIN:STANDARD
TZOFFSETFROM:-0400
TZOFFSETTO:-0500
TZNAME:EST
DTSTART:20261101T060000
END:STANDARD
BEGIN:DAYLIGHT
TZOFFSETFROM:-0500
TZOFFSETTO:-0400
TZNAME:EDT
DTSTART:20270314T070000
END:DAYLIGHT
BEGIN:STANDARD
TZOFFSETFROM:-0400
TZOFFSETTO:-0500
TZNAME:EST
DTSTART:20271107T060000
END:STANDARD
END:VTIMEZONE
BEGIN:VEVENT
DTSTART;TZID=America/New_York:20260324T193000
DTEND;TZID=America/New_York:20260324T203000
DTSTAMP:20260422T133745
CREATED:20251216T131333Z
LAST-MODIFIED:20251216T131333Z
UID:27201-1774380600-1774384200@www.cn.edu
SUMMARY:Guest Piano Recital: Dr. Rachel Park
DESCRIPTION:Come and enjoy an evening of beautiful music!
URL:https://www.cn.edu/event/guest-piano-recital-dr-rachel-park/
LOCATION:Thomas Recital Hall\, Located in the Tarr Music Center
CATEGORIES:Arts,Music
END:VEVENT
BEGIN:VEVENT
DTSTART;TZID=America/New_York:20260319T193000
DTEND;TZID=America/New_York:20260319T203000
DTSTAMP:20260422T133745
CREATED:20251216T131240Z
LAST-MODIFIED:20251216T131240Z
UID:27200-1773948600-1773952200@www.cn.edu
SUMMARY:Faculty Recital: Mr. Hunter Collins\, oboe
DESCRIPTION:Come and enjoy a wonderful recital opportunity!
URL:https://www.cn.edu/event/faculty-recital-mr-hunter-collins-oboe/
LOCATION:Thomas Recital Hall\, Located in the Tarr Music Center
CATEGORIES:Arts,Music
END:VEVENT
BEGIN:VEVENT
DTSTART;TZID=America/New_York:20260312T193000
DTEND;TZID=America/New_York:20260312T203000
DTSTAMP:20260422T133745
CREATED:20251216T131140Z
LAST-MODIFIED:20251216T131140Z
UID:27198-1773343800-1773347400@www.cn.edu
SUMMARY:A Cappella Choir Home Concert
DESCRIPTION:Welcome A Cappella back from their Spring Tour as they celebrate with an evening of music!
URL:https://www.cn.edu/event/a-cappella-choir-home-concert/
LOCATION:First UMC Jefferson City
CATEGORIES:Arts,Music
END:VEVENT
BEGIN:VEVENT
DTSTART;TZID=America/New_York:20260309T193000
DTEND;TZID=America/New_York:20260309T203000
DTSTAMP:20260422T133745
CREATED:20251216T130954Z
LAST-MODIFIED:20251216T130954Z
UID:27197-1773084600-1773088200@www.cn.edu
SUMMARY:Faculty Recital: Dr. Ryan Garber\, organ
DESCRIPTION:Enjoy an evening of organ music\, along with student compositions!
URL:https://www.cn.edu/event/faculty-recital-dr-ryan-garber-organ/
LOCATION:Thomas Recital Hall\, Located in the Tarr Music Center
CATEGORIES:Arts,Music
END:VEVENT
BEGIN:VEVENT
DTSTART;TZID=America/New_York:20260223T193000
DTEND;TZID=America/New_York:20260223T203000
DTSTAMP:20260422T133745
CREATED:20251216T130828Z
LAST-MODIFIED:20251216T130828Z
UID:27196-1771875000-1771878600@www.cn.edu
SUMMARY:Faculty Recital: Dr. David Gonzalez\, tuba
DESCRIPTION:Come and enjoy an evening of music!
URL:https://www.cn.edu/event/faculty-recital-dr-david-gonzalez-tuba/
LOCATION:Thomas Recital Hall\, Located in the Tarr Music Center
CATEGORIES:Arts,Music
END:VEVENT
BEGIN:VEVENT
DTSTART;TZID=America/New_York:20260219T193000
DTEND;TZID=America/New_York:20260219T203000
DTSTAMP:20260422T133745
CREATED:20251216T130720Z
LAST-MODIFIED:20251216T130720Z
UID:27195-1771529400-1771533000@www.cn.edu
SUMMARY:Guest Piano Recital: Dr. Soohyun Yun
DESCRIPTION:Enjoy a wonderful evening of piano music!
URL:https://www.cn.edu/event/guest-piano-recital-dr-soohyun-yun/
LOCATION:Thomas Recital Hall\, Located in the Tarr Music Center
CATEGORIES:Arts,Music
END:VEVENT
BEGIN:VEVENT
DTSTART;TZID=America/New_York:20260212T193000
DTEND;TZID=America/New_York:20260212T203000
DTSTAMP:20260422T133745
CREATED:20251216T130625Z
LAST-MODIFIED:20251216T130625Z
UID:27194-1770924600-1770928200@www.cn.edu
SUMMARY:Faculty Recital: Ms. Sherbie Hampson\, flute
DESCRIPTION:Come and enjoy an evening of flute music!
URL:https://www.cn.edu/event/faculty-recital-ms-sherbie-hampson-flute/
LOCATION:Thomas Recital Hall\, Located in the Tarr Music Center
CATEGORIES:Arts,Music
END:VEVENT
BEGIN:VEVENT
DTSTART;TZID=America/New_York:20260203T193000
DTEND;TZID=America/New_York:20260203T203000
DTSTAMP:20260422T133745
CREATED:20251216T130519Z
LAST-MODIFIED:20251216T130519Z
UID:27193-1770147000-1770150600@www.cn.edu
SUMMARY:Faculty Recital: Dr. Ryan Fogg\, piano
DESCRIPTION:Come and enjoy an evening of music!
URL:https://www.cn.edu/event/faculty-recital-dr-ryan-fogg-piano/
LOCATION:Thomas Recital Hall\, Located in the Tarr Music Center
CATEGORIES:Arts,Music
END:VEVENT
BEGIN:VEVENT
DTSTART;TZID=America/New_York:20260131T080000
DTEND;TZID=America/New_York:20260131T150000
DTSTAMP:20260422T133745
CREATED:20251216T130350Z
LAST-MODIFIED:20251216T130350Z
UID:27192-1769846400-1769871600@www.cn.edu
SUMMARY:Tarr Music Scholarship Weekend
DESCRIPTION:Annual music scholarship weekend held in the Tarr Music Center!
URL:https://www.cn.edu/event/tarr-music-scholarship-weekend/
LOCATION:Tarr Music Center
CATEGORIES:Music
END:VEVENT
BEGIN:VEVENT
DTSTART;TZID=America/New_York:20251202T190000
DTEND;TZID=America/New_York:20251202T203000
DTSTAMP:20260422T133745
CREATED:20250718T153708Z
LAST-MODIFIED:20250718T153708Z
UID:26288-1764702000-1764707400@www.cn.edu
SUMMARY:Marching Eagles Banquet
DESCRIPTION:A celebration for the Marching Eagles after a successful season!
URL:https://www.cn.edu/event/marching-eagles-banquet/
LOCATION:Stokely Memorial Cafeteria\, Small cafeteria\, 809 Ken Sparks Way\, Jefferson City\, TN\, 37760\, United States
CATEGORIES:Arts,Music
END:VEVENT
BEGIN:VEVENT
DTSTART;TZID=America/New_York:20251117T193000
DTEND;TZID=America/New_York:20251117T203000
DTSTAMP:20260422T133745
CREATED:20250718T180341Z
LAST-MODIFIED:20250718T180341Z
UID:26294-1763407800-1763411400@www.cn.edu
SUMMARY:Fogg and Friends Chamber Recital
DESCRIPTION:Come and enjoy a wonderful evening of music!
URL:https://www.cn.edu/event/fogg-and-friends-chamber-recital/
LOCATION:Thomas Recital Hall\, Located in the Tarr Music Center
CATEGORIES:Arts,Music
END:VEVENT
BEGIN:VEVENT
DTSTART;TZID=America/New_York:20251106T193000
DTEND;TZID=America/New_York:20251106T203000
DTSTAMP:20260422T133745
CREATED:20250718T155940Z
LAST-MODIFIED:20250923T181413Z
UID:26289-1762457400-1762461000@www.cn.edu
SUMMARY:Oratorio Performance
DESCRIPTION:Come and enjoy a wonderful evening of music!
URL:https://www.cn.edu/event/oratorio-performance/
LOCATION:First Baptist Church\, Dandridge
CATEGORIES:Music
END:VEVENT
BEGIN:VEVENT
DTSTART;TZID=America/New_York:20251027T193000
DTEND;TZID=America/New_York:20251027T203000
DTSTAMP:20260422T133745
CREATED:20250718T150007Z
LAST-MODIFIED:20250718T150007Z
UID:26287-1761593400-1761597000@www.cn.edu
SUMMARY:Guest Recital: Mr. Matthew Younglove\, saxophone
DESCRIPTION:Come and enjoy a wonderful evening of music!
URL:https://www.cn.edu/event/guest-recital-mr-matthew-younglove-saxophone/
LOCATION:Thomas Recital Hall\, Located in the Tarr Music Center
CATEGORIES:Arts,Music
END:VEVENT
BEGIN:VEVENT
DTSTART;TZID=America/New_York:20251025T100000
DTEND;TZID=America/New_York:20251025T110000
DTSTAMP:20260422T133745
CREATED:20250718T180240Z
LAST-MODIFIED:20250718T180240Z
UID:26293-1761386400-1761390000@www.cn.edu
SUMMARY:HOMECOMING: Music Showcase
DESCRIPTION:Come and celebrate Homecoming with the Carson-Newman music department!
URL:https://www.cn.edu/event/homecoming-music-showcase/
LOCATION:Tarr Music Center Lawn
CATEGORIES:Homecoming,Music,Special Events
END:VEVENT
BEGIN:VEVENT
DTSTART;TZID=America/New_York:20251007T193000
DTEND;TZID=America/New_York:20251007T203000
DTSTAMP:20260422T133745
CREATED:20250718T145037Z
LAST-MODIFIED:20250718T145037Z
UID:26284-1759865400-1759869000@www.cn.edu
SUMMARY:Guest Piano Recital: Dr. Catalin Dima
DESCRIPTION:Come and enjoy a wonderful evening of music!
URL:https://www.cn.edu/event/guest-piano-recital-dr-catalin-dima/
LOCATION:Thomas Recital Hall\, Located in the Tarr Music Center
CATEGORIES:Arts,Music
END:VEVENT
BEGIN:VEVENT
DTSTART;TZID=America/New_York:20251003T193000
DTEND;TZID=America/New_York:20251003T203000
DTSTAMP:20260422T133745
CREATED:20250718T144649Z
LAST-MODIFIED:20250718T144649Z
UID:26283-1759519800-1759523400@www.cn.edu
SUMMARY:Shared Faculty Voice Recital: Dr. Laurissa Backlin and Mr. Cody Boling
DESCRIPTION:Come and enjoy a wonderful evening of music!
URL:https://www.cn.edu/event/shared-faculty-voice-recital-dr-laurissa-backlin-and-mr-cody-boling/
LOCATION:Thomas Recital Hall\, Located in the Tarr Music Center
CATEGORIES:Arts,Music
END:VEVENT
BEGIN:VEVENT
DTSTART;TZID=America/New_York:20250902T193000
DTEND;TZID=America/New_York:20250902T203000
DTSTAMP:20260422T133745
CREATED:20250718T142024Z
LAST-MODIFIED:20250718T142024Z
UID:26281-1756841400-1756845000@www.cn.edu
SUMMARY:Faculty Recital: Dr. Ryan Fogg\, piano
DESCRIPTION:Come and enjoy a wonderful piano recital featuring Dr. Ryan Fogg!
URL:https://www.cn.edu/event/faculty-recital-dr-ryan-fogg-piano-3/
LOCATION:Thomas Recital Hall\, Located in the Tarr Music Center
CATEGORIES:Arts,Music
END:VEVENT
BEGIN:VEVENT
DTSTART;TZID=America/New_York:20250414T200000
DTEND;TZID=America/New_York:20250414T210000
DTSTAMP:20260422T133745
CREATED:20250317T191726Z
LAST-MODIFIED:20250317T191726Z
UID:25615-1744660800-1744664400@www.cn.edu
SUMMARY:Redemption Night of Worship
DESCRIPTION:Night of Worship featuring the Music Department’s Praise and Worship Band\, Redemption.
URL:https://www.cn.edu/event/redemption-night-of-worship-2/
LOCATION:Thomas Recital Hall\, Located in the Tarr Music Center
CATEGORIES:Music
END:VEVENT
BEGIN:VEVENT
DTSTART;TZID=America/New_York:20241117T140000
DTEND;TZID=America/New_York:20241117T160000
DTSTAMP:20260422T133745
CREATED:20241018T130252Z
LAST-MODIFIED:20241022T124501Z
UID:24921-1731852000-1731859200@www.cn.edu
SUMMARY:Little Women: The Musical
DESCRIPTION:Based on Louisa May Alcott’s life\, Little Women follows the adventures of sisters\, Jo\, Meg\, Beth and Amy March. Jo is trying to sell her stories for publication\, but the publishers are not interested – her friend\, Professor Bhaer\, tells her that she has to do better and write more from herself. Begrudgingly taking this advice\, Jo weaves the story of herself and her sisters and their experience growing up in Civil War America. This timeless\, captivating story filled with personal discovery\, heartache\, hope and everlasting love is brought to life in this glorious musical by Jason Howland\, Mindi Dickstein\, and Allan Knee.
URL:https://www.cn.edu/event/little-women-the-musical-4/
LOCATION:Gentry Auditorium
CATEGORIES:Academic,Arts
END:VEVENT
BEGIN:VEVENT
DTSTART;TZID=America/New_York:20241116T193000
DTEND;TZID=America/New_York:20241116T213000
DTSTAMP:20260422T133745
CREATED:20241018T130202Z
LAST-MODIFIED:20241018T130202Z
UID:24920-1731785400-1731792600@www.cn.edu
SUMMARY:Little Women: The Musical
DESCRIPTION:Based on Louisa May Alcott’s life\, Little Women follows the adventures of sisters\, Jo\, Meg\, Beth and Amy March. Jo is trying to sell her stories for publication\, but the publishers are not interested – her friend\, Professor Bhaer\, tells her that she has to do better and write more from herself. Begrudgingly taking this advice\, Jo weaves the story of herself and her sisters and their experience growing up in Civil War America. This timeless\, captivating story filled with personal discovery\, heartache\, hope and everlasting love is brought to life in this glorious musical by Jason Howland\, Mindi Dickstein\, and Allan Knee.
URL:https://www.cn.edu/event/little-women-the-musical-3/
LOCATION:Gentry Auditorium
CATEGORIES:Academic,Arts
END:VEVENT
BEGIN:VEVENT
DTSTART;TZID=America/New_York:20241115T193000
DTEND;TZID=America/New_York:20241115T213000
DTSTAMP:20260422T133745
CREATED:20241018T130116Z
LAST-MODIFIED:20241018T130116Z
UID:24919-1731699000-1731706200@www.cn.edu
SUMMARY:Little Women: The Musical
DESCRIPTION:Based on Louisa May Alcott’s life\, Little Women follows the adventures of sisters\, Jo\, Meg\, Beth and Amy March. Jo is trying to sell her stories for publication\, but the publishers are not interested – her friend\, Professor Bhaer\, tells her that she has to do better and write more from herself. Begrudgingly taking this advice\, Jo weaves the story of herself and her sisters and their experience growing up in Civil War America. This timeless\, captivating story filled with personal discovery\, heartache\, hope and everlasting love is brought to life in this glorious musical by Jason Howland\, Mindi Dickstein\, and Allan Knee.
URL:https://www.cn.edu/event/little-women-the-musical-2/
LOCATION:Gentry Auditorium
CATEGORIES:Academic,Arts
END:VEVENT
BEGIN:VEVENT
DTSTART;TZID=America/New_York:20241114T193000
DTEND;TZID=America/New_York:20241114T213000
DTSTAMP:20260422T133745
CREATED:20241018T125936Z
LAST-MODIFIED:20241018T130330Z
UID:24918-1731612600-1731619800@www.cn.edu
SUMMARY:Little Women: The Musical
DESCRIPTION:Based on Louisa May Alcott’s life\, Little Women follows the adventures of sisters\, Jo\, Meg\, Beth and Amy March. Jo is trying to sell her stories for publication\, but the publishers are not interested – her friend\, Professor Bhaer\, tells her that she has to do better and write more from herself. Begrudgingly taking this advice\, Jo weaves the story of herself and her sisters and their experience growing up in Civil War America. This timeless\, captivating story filled with personal discovery\, heartache\, hope and everlasting love is brought to life in this glorious musical by Jason Howland\, Mindi Dickstein\, and Allan Knee.
URL:https://www.cn.edu/event/little-women-the-musical/
LOCATION:Gentry Auditorium
CATEGORIES:Academic,Arts
END:VEVENT
BEGIN:VEVENT
DTSTART;TZID=America/New_York:20241014T193000
DTEND;TZID=America/New_York:20241014T203000
DTSTAMP:20260422T133745
CREATED:20240906T153946Z
LAST-MODIFIED:20241011T151627Z
UID:24530-1728934200-1728937800@www.cn.edu
SUMMARY:Guest Piano Recital: Featuring Dr. Alex Wasserman
DESCRIPTION:Described as a “pianist of real firework” – (Giorgio Koukl\, EarRelevant)\, Dr. Alexander Wasserman enjoys a distinguished career on both the concert stage and in the teaching studio. \nRecent solo recitals include concerts in Atlanta\, Baltimore\, Boston\, Chicago\, Cleveland\, Dallas\, Los Angeles\, Miami\, Minneapolis\, Portland\, San Diego\, San Francisco\, and other cultural centers throughout the United States. \nAs a concerto soloist\, Dr. Wasserman has appeared with the Hollywood Chamber Orchestra\, Thousand Oaks Philharmonic (CA)\, the New Valley Symphony (CA)\, the Suburban Symphony (OH)\, The Santa Barbara Choral Society and Orchestra (CA)\, The DeKalb Symphony (GA)\, The Rome Symphony (GA)\, The Reinhardt Symphony (GA)\, The Atlanta Community Symphony Orchestra\, and the Parma Symphony (OH) in concertos by Mozart\, Beethoven\, Chopin\, Liszt\, Grieg\, Rachmaninoff\, and Tchaikovsky.
URL:https://www.cn.edu/event/guest-piano-recital-featuring-dr-alex-wasserman/
LOCATION:Thomas Recital Hall\, Located in the Tarr Music Center
CATEGORIES:Arts,Music
END:VEVENT
BEGIN:VEVENT
DTSTART;TZID=America/New_York:20240909T193000
DTEND;TZID=America/New_York:20240909T203000
DTSTAMP:20260422T133745
CREATED:20240906T172334Z
LAST-MODIFIED:20240906T172334Z
UID:24532-1725910200-1725913800@www.cn.edu
SUMMARY:Faculty Recital: Featuring Dr. Laurissa Backlin\, soprano & Ms. Sherbie Hampson\, flute
DESCRIPTION:Come and enjoy a lovely evening of music!
URL:https://www.cn.edu/event/faculty-recital-featuring-dr-laurissa-backlin-soprano-ms-sherbie-hampson-flute/
LOCATION:Thomas Recital Hall\, Located in the Tarr Music Center
CATEGORIES:Arts,Music
END:VEVENT
END:VCALENDAR