BEGIN:VCALENDAR
VERSION:2.0
PRODID:-//Carson-Newman University - ECPv6.15.20//NONSGML v1.0//EN
CALSCALE:GREGORIAN
METHOD:PUBLISH
X-WR-CALNAME:Carson-Newman University
X-ORIGINAL-URL:https://www.cn.edu
X-WR-CALDESC:Events for Carson-Newman University
REFRESH-INTERVAL;VALUE=DURATION:PT1H
X-Robots-Tag:noindex
X-PUBLISHED-TTL:PT1H
BEGIN:VTIMEZONE
TZID:America/New_York
BEGIN:DAYLIGHT
TZOFFSETFROM:-0500
TZOFFSETTO:-0400
TZNAME:EDT
DTSTART:20230312T070000
END:DAYLIGHT
BEGIN:STANDARD
TZOFFSETFROM:-0400
TZOFFSETTO:-0500
TZNAME:EST
DTSTART:20231105T060000
END:STANDARD
BEGIN:DAYLIGHT
TZOFFSETFROM:-0500
TZOFFSETTO:-0400
TZNAME:EDT
DTSTART:20240310T070000
END:DAYLIGHT
BEGIN:STANDARD
TZOFFSETFROM:-0400
TZOFFSETTO:-0500
TZNAME:EST
DTSTART:20241103T060000
END:STANDARD
BEGIN:DAYLIGHT
TZOFFSETFROM:-0500
TZOFFSETTO:-0400
TZNAME:EDT
DTSTART:20250309T070000
END:DAYLIGHT
BEGIN:STANDARD
TZOFFSETFROM:-0400
TZOFFSETTO:-0500
TZNAME:EST
DTSTART:20251102T060000
END:STANDARD
END:VTIMEZONE
BEGIN:VEVENT
DTSTART;TZID=America/New_York:20241202T130000
DTEND;TZID=America/New_York:20241202T150000
DTSTAMP:20260420T044219
CREATED:20241107T191239Z
LAST-MODIFIED:20241107T191239Z
UID:25043-1733144400-1733151600@www.cn.edu
SUMMARY:Santa in the 'Sac
DESCRIPTION:Come to the MSAC to get your picture with Santa!
URL:https://www.cn.edu/event/santa-in-the-sac/
LOCATION:MSAC Grand Hall
CATEGORIES:Student Organization,Student Services
END:VEVENT
BEGIN:VEVENT
DTSTART;TZID=America/New_York:20241202T190000
DTEND;TZID=America/New_York:20241202T200000
DTSTAMP:20260420T044219
CREATED:20240822T154242Z
LAST-MODIFIED:20240826T151220Z
UID:24288-1733166000-1733169600@www.cn.edu
SUMMARY:InterVarsity Christian Fellowship Weekly Bible Study
DESCRIPTION:Join InterVarsity as we pray for each other and our campus\, hang out\, and study the gospel of John!
URL:https://www.cn.edu/event/intervarsity-christian-fellowship-weekly-bible-study-23/
LOCATION:Maples Coffee House
CATEGORIES:Student Life,Student Organization
END:VEVENT
END:VCALENDAR